BEGIN:VCALENDAR
VERSION:2.0
PRODID:-//Starfire - ECPv6.15.17.1//NONSGML v1.0//EN
CALSCALE:GREGORIAN
METHOD:PUBLISH
X-ORIGINAL-URL:https://www.starfiresports.com
X-WR-CALDESC:Events for Starfire
REFRESH-INTERVAL;VALUE=DURATION:PT1H
X-Robots-Tag:noindex
X-PUBLISHED-TTL:PT1H
BEGIN:VTIMEZONE
TZID:America/Los_Angeles
BEGIN:DAYLIGHT
TZOFFSETFROM:-0800
TZOFFSETTO:-0700
TZNAME:PDT
DTSTART:20250309T100000
END:DAYLIGHT
BEGIN:STANDARD
TZOFFSETFROM:-0700
TZOFFSETTO:-0800
TZNAME:PST
DTSTART:20251102T090000
END:STANDARD
BEGIN:DAYLIGHT
TZOFFSETFROM:-0800
TZOFFSETTO:-0700
TZNAME:PDT
DTSTART:20260308T100000
END:DAYLIGHT
BEGIN:STANDARD
TZOFFSETFROM:-0700
TZOFFSETTO:-0800
TZNAME:PST
DTSTART:20261101T090000
END:STANDARD
BEGIN:DAYLIGHT
TZOFFSETFROM:-0800
TZOFFSETTO:-0700
TZNAME:PDT
DTSTART:20270314T100000
END:DAYLIGHT
BEGIN:STANDARD
TZOFFSETFROM:-0700
TZOFFSETTO:-0800
TZNAME:PST
DTSTART:20271107T090000
END:STANDARD
END:VTIMEZONE
BEGIN:VEVENT
DTSTART;VALUE=DATE:20260523
DTEND;VALUE=DATE:20260526
DTSTAMP:20260423T075548
CREATED:20260403T025952Z
LAST-MODIFIED:20260403T030416Z
UID:57168-1779494400-1779753599@www.starfiresports.com
SUMMARY:Evergreen Challenge Indoor Tournament
DESCRIPTION:Join the Indoor Action!\nKick off your Memorial Day weekend with the Evergreen Challenge Indoor Tournament at Starfire Sports. This fast-paced\, high-energy event is the perfect way for youth and high school teams to compete in a fun\, festive environment. Whether you are a new team getting together for the first time after tryouts or a team that’s celebrating the end of the season one last time\, there is a place for every player to showcase their indoor skills. \nTournament Details\nDates: May 23-25\, 2026\nLocation: Starfire Sports Indoor Fields\nEntry Fee: $275 per team \nAvailable Divisions: \n\nU10 & U11: Monday\, May 25th\nU12: Sunday\, May 24th\nU13: Monday\, May 25th\nU14: Sunday\, May 24th\nHigh School (Boys\, Girls\, & Coed): Saturday\, May 23rd\n\nTournament Format: \n\n3-game minimum guarantee\n22-minute games (11-minute halves\nAll games played indoors during the day for each division\n\nRegister Your Team Today
URL:https://www.starfiresports.com/event/evergreen-challenge-indoor-tournament/
LOCATION:Starfire Sports\, 14800 Starfire Way\, Tukwila\, WA\, 98188\, United States
CATEGORIES:Youth Indoor Tournament,Youth Soccer Tournament
ATTACH;FMTTYPE=image/png:https://www.starfiresports.com/wp-content/uploads/2026/01/Evergreen-Challenge-Logo-2026.png
ORGANIZER;CN="Starfire Sports":MAILTO:tournaments@starfiresports.com
END:VEVENT
END:VCALENDAR