BEGIN:VCALENDAR
VERSION:2.0
PRODID:-//Starfire - ECPv6.15.17.1//NONSGML v1.0//EN
CALSCALE:GREGORIAN
METHOD:PUBLISH
X-ORIGINAL-URL:https://www.starfiresports.com
X-WR-CALDESC:Events for Starfire
REFRESH-INTERVAL;VALUE=DURATION:PT1H
X-Robots-Tag:noindex
X-PUBLISHED-TTL:PT1H
BEGIN:VTIMEZONE
TZID:America/Los_Angeles
BEGIN:DAYLIGHT
TZOFFSETFROM:-0800
TZOFFSETTO:-0700
TZNAME:PDT
DTSTART:20250309T100000
END:DAYLIGHT
BEGIN:STANDARD
TZOFFSETFROM:-0700
TZOFFSETTO:-0800
TZNAME:PST
DTSTART:20251102T090000
END:STANDARD
BEGIN:DAYLIGHT
TZOFFSETFROM:-0800
TZOFFSETTO:-0700
TZNAME:PDT
DTSTART:20260308T100000
END:DAYLIGHT
BEGIN:STANDARD
TZOFFSETFROM:-0700
TZOFFSETTO:-0800
TZNAME:PST
DTSTART:20261101T090000
END:STANDARD
BEGIN:DAYLIGHT
TZOFFSETFROM:-0800
TZOFFSETTO:-0700
TZNAME:PDT
DTSTART:20270314T100000
END:DAYLIGHT
BEGIN:STANDARD
TZOFFSETFROM:-0700
TZOFFSETTO:-0800
TZNAME:PST
DTSTART:20271107T090000
END:STANDARD
END:VTIMEZONE
BEGIN:VEVENT
DTSTART;TZID=America/Los_Angeles:20260424T190000
DTEND;TZID=America/Los_Angeles:20260424T210000
DTSTAMP:20260422T072806
CREATED:20260311T174207Z
LAST-MODIFIED:20260311T174207Z
UID:57021-1777057200-1777064400@www.starfiresports.com
SUMMARY:Seattle Seawolves vs Chicago Hounds
DESCRIPTION:Join us for College Night at Starfire Stadium as the Seattle Seawolves take on the Chicago Hounds! In partnership with Seawolves Rugby in Schools\, we’re bringing together student communities from across the region for a high-energy evening of professional rugby. \nWhether you’re representing your alma mater or currently hitting the books\, come out and enjoy the fastest-growing sport in the U.S. Don’t forget to check the Starfire Campus Map for parking info and visit the official Seawolves site for the latest matchday roster.
URL:https://www.starfiresports.com/event/seattle-seawolves-vs-chicago-hounds/
LOCATION:Starfire Sports\, 14800 Starfire Way\, Tukwila\, WA\, 98188\, United States
CATEGORIES:Seattle Seawolves Rugby,Stadium Events
ATTACH;FMTTYPE=image/png:https://www.starfiresports.com/wp-content/uploads/2026/03/Seattle_Seawolves_primary_logo-e1773251953969.png
END:VEVENT
BEGIN:VEVENT
DTSTART;VALUE=DATE:20260425
DTEND;VALUE=DATE:20260427
DTSTAMP:20260422T072806
CREATED:20260311T182132Z
LAST-MODIFIED:20260311T182132Z
UID:57031-1777075200-1777247999@www.starfiresports.com
SUMMARY:Washington Youth Soccer Presidents Cup (U9-U11)
DESCRIPTION:The Washington Youth Soccer Presidents Cup is the state’s largest competitive cup tournament\, designed for teams in the U9-U19 age groups. This weekend features the Semi-Finals and Finals for the U9-U11 age groups. Winners in older age groups (13U+) may advance to the USYS Far West Regional Presidents Cup. Come support the young athletes as they compete for the state title! \nMake sure to check the Starfire Campus Map before you go for parking and field information.
URL:https://www.starfiresports.com/event/washington-youth-soccer-presidents-cup-u9-u11/
LOCATION:Starfire Sports\, 14800 Starfire Way\, Tukwila\, WA\, 98188\, United States
CATEGORIES:Youth Soccer Tournament,Youth Tournament
ATTACH;FMTTYPE=image/png:https://www.starfiresports.com/wp-content/uploads/2026/03/USYS_PresCup_Primary_RGB_LBG-300x300-1.png
END:VEVENT
BEGIN:VEVENT
DTSTART;TZID=America/Los_Angeles:20260426T200000
DTEND;TZID=America/Los_Angeles:20260426T220000
DTSTAMP:20260422T072806
CREATED:20260127T011214Z
LAST-MODIFIED:20260127T011952Z
UID:56700-1777233600-1777240800@www.starfiresports.com
SUMMARY:Tacoma Defiance vs LAFC
DESCRIPTION:Tacoma Defiance vs LAFC on Sunday\, 4/26/2026 at 8:00 PM
URL:https://www.starfiresports.com/event/tacoma-defiance-vs-lafc-3/
LOCATION:Starfire Sports\, 14800 Starfire Way\, Tukwila\, WA\, 98188\, United States
CATEGORIES:Pro Soccer Game
ATTACH;FMTTYPE=image/jpeg:https://www.starfiresports.com/wp-content/uploads/2025/06/pro-teams-defiance-e1773348023736.jpg
END:VEVENT
END:VCALENDAR