BEGIN:VCALENDAR
VERSION:2.0
PRODID:-//Starfire - ECPv6.15.17.1//NONSGML v1.0//EN
CALSCALE:GREGORIAN
METHOD:PUBLISH
X-WR-CALNAME:Starfire
X-ORIGINAL-URL:https://www.starfiresports.com
X-WR-CALDESC:Events for Starfire
REFRESH-INTERVAL;VALUE=DURATION:PT1H
X-Robots-Tag:noindex
X-PUBLISHED-TTL:PT1H
BEGIN:VTIMEZONE
TZID:America/Los_Angeles
BEGIN:DAYLIGHT
TZOFFSETFROM:-0800
TZOFFSETTO:-0700
TZNAME:PDT
DTSTART:20230312T100000
END:DAYLIGHT
BEGIN:STANDARD
TZOFFSETFROM:-0700
TZOFFSETTO:-0800
TZNAME:PST
DTSTART:20231105T090000
END:STANDARD
BEGIN:DAYLIGHT
TZOFFSETFROM:-0800
TZOFFSETTO:-0700
TZNAME:PDT
DTSTART:20240310T100000
END:DAYLIGHT
BEGIN:STANDARD
TZOFFSETFROM:-0700
TZOFFSETTO:-0800
TZNAME:PST
DTSTART:20241103T090000
END:STANDARD
BEGIN:DAYLIGHT
TZOFFSETFROM:-0800
TZOFFSETTO:-0700
TZNAME:PDT
DTSTART:20250309T100000
END:DAYLIGHT
BEGIN:STANDARD
TZOFFSETFROM:-0700
TZOFFSETTO:-0800
TZNAME:PST
DTSTART:20251102T090000
END:STANDARD
BEGIN:DAYLIGHT
TZOFFSETFROM:-0800
TZOFFSETTO:-0700
TZNAME:PDT
DTSTART:20260308T100000
END:DAYLIGHT
BEGIN:STANDARD
TZOFFSETFROM:-0700
TZOFFSETTO:-0800
TZNAME:PST
DTSTART:20261101T090000
END:STANDARD
BEGIN:DAYLIGHT
TZOFFSETFROM:-0800
TZOFFSETTO:-0700
TZNAME:PDT
DTSTART:20270314T100000
END:DAYLIGHT
BEGIN:STANDARD
TZOFFSETFROM:-0700
TZOFFSETTO:-0800
TZNAME:PST
DTSTART:20271107T090000
END:STANDARD
END:VTIMEZONE
BEGIN:VEVENT
DTSTART;VALUE=DATE:20240323
DTEND;VALUE=DATE:20240324
DTSTAMP:20260421T033651
CREATED:20240315T203618Z
LAST-MODIFIED:20240315T203618Z
UID:54280-1711152000-1711238399@www.starfiresports.com
SUMMARY:FREE Youth Rugby Camp with the Seawolves
DESCRIPTION:Seattle Seawolves Youth Development Camp \nStarfire is partnering with the Seattle Seawolves Rugby Team and Rugby Washington to bring free rugby training opportunities to Starfire’s families! \nWhat: 1 hour rugby training with the Seawolves Players! Similarly to their run with pack program\, participants will learn the basics and play non-contact rugby-inspired games alongside professional athletes. \nWhen: \n4 sessions:\n-Saturday\, March 23rd at 9:15am\n-Saturday\, March 23rd at 10:45am\n-Saturday\, March 30th at 9:15am\n-Saturday\, March 30th at 10:45am \nWhere: Starfire Indoor fields 1 & 2 \nAges: 5-12 years \nCost: FREE \nRegister: online here or sign up on the form at the front desk. \nRegistration required and current waiver must be on file with Starfire or submitted day of.
URL:https://www.starfiresports.com/event/free-youth-rugby-camp-with-the-seawolves/
LOCATION:Starfire Sports\, 14800 Starfire Way\, Tukwila\, WA\, 98188\, United States
CATEGORIES:Youth Events
ORGANIZER;CN="Starfire Sports":MAILTO:tournaments@starfiresports.com
END:VEVENT
BEGIN:VEVENT
DTSTART;VALUE=DATE:20240330
DTEND;VALUE=DATE:20240331
DTSTAMP:20260421T033651
CREATED:20240315T203157Z
LAST-MODIFIED:20240315T203157Z
UID:54278-1711756800-1711843199@www.starfiresports.com
SUMMARY:FREE Youth Rugby Camp with the Seawolves
DESCRIPTION:Seattle Seawolves Youth Development Camp \nStarfire is partnering with the Seattle Seawolves Rugby Team and Rugby Washington to bring free rugby training opportunities to Starfire’s families! \nWhat: 1 hour rugby training with the Seawolves Players! Similarly to their run with pack program\, participants will learn the basics and play non-contact rugby-inspired games alongside professional athletes. \nWhen: \n4 sessions:\n-Saturday\, March 23rd at 9:15am\n-Saturday\, March 23rd at 10:45am\n-Saturday\, March 30th at 9:15am\n-Saturday\, March 30th at 10:45am \nWhere: Starfire Indoor fields 1 & 2 \nAges: 5-12 years \nCost: FREE \nRegister: online here or sign up on the form at the front desk. \nRegistration required and current waiver must be on file with Starfire or submitted day of.
URL:https://www.starfiresports.com/event/free-youth-rugby-camp-with-the-seawolves-2/
LOCATION:Starfire Sports\, 14800 Starfire Way\, Tukwila\, WA\, 98188\, United States
CATEGORIES:Youth Events
ORGANIZER;CN="Starfire Sports":MAILTO:tournaments@starfiresports.com
END:VEVENT
BEGIN:VEVENT
DTSTART;VALUE=DATE:20240614
DTEND;VALUE=DATE:20240617
DTSTAMP:20260421T033651
CREATED:20240308T193159Z
LAST-MODIFIED:20240308T193159Z
UID:54235-1718323200-1718582399@www.starfiresports.com
SUMMARY:Spring Classic
DESCRIPTION:Spring Classic
URL:https://www.starfiresports.com/event/spring-classic/
LOCATION:Starfire Sports\, 14800 Starfire Way\, Tukwila\, WA\, 98188\, United States
CATEGORIES:Youth Events
ORGANIZER;CN="Starfire Sports":MAILTO:tournaments@starfiresports.com
END:VEVENT
BEGIN:VEVENT
DTSTART;VALUE=DATE:20240628
DTEND;VALUE=DATE:20240701
DTSTAMP:20260421T033651
CREATED:20240614T053032Z
LAST-MODIFIED:20240614T053032Z
UID:54479-1719532800-1719791999@www.starfiresports.com
SUMMARY:Tukwila Cup & Block Party
DESCRIPTION:Tukwila Cup
URL:https://www.starfiresports.com/event/tukwila-cup-block-party/
LOCATION:Starfire Sports\, 14800 Starfire Way\, Tukwila\, WA\, 98188\, United States
CATEGORIES:Adult Events,Outreach Events,Stadium Events,Youth Events
ORGANIZER;CN="Starfire Sports":MAILTO:tournaments@starfiresports.com
END:VEVENT
BEGIN:VEVENT
DTSTART;VALUE=DATE:20240712
DTEND;VALUE=DATE:20240715
DTSTAMP:20260421T033651
CREATED:20240308T193306Z
LAST-MODIFIED:20240308T193306Z
UID:54237-1720742400-1721001599@www.starfiresports.com
SUMMARY:Starfire Cup
DESCRIPTION:Starfire Cup
URL:https://www.starfiresports.com/event/starfire-cup/
LOCATION:Starfire Sports\, 14800 Starfire Way\, Tukwila\, WA\, 98188\, United States
CATEGORIES:Youth Events
ORGANIZER;CN="Starfire Sports":MAILTO:tournaments@starfiresports.com
END:VEVENT
BEGIN:VEVENT
DTSTART;VALUE=DATE:20240722
DTEND;VALUE=DATE:20240727
DTSTAMP:20260421T033651
CREATED:20240308T193419Z
LAST-MODIFIED:20240308T193419Z
UID:54239-1721606400-1722038399@www.starfiresports.com
SUMMARY:STEAM Camp- Aviation & Space
DESCRIPTION:STEAM Camp- Aviation & Space
URL:https://www.starfiresports.com/event/steam-camp-aviation-space/
LOCATION:Starfire Sports\, 14800 Starfire Way\, Tukwila\, WA\, 98188\, United States
CATEGORIES:Youth Events
ORGANIZER;CN="Starfire Sports":MAILTO:tournaments@starfiresports.com
END:VEVENT
BEGIN:VEVENT
DTSTART;VALUE=DATE:20240729
DTEND;VALUE=DATE:20240803
DTSTAMP:20260421T033651
CREATED:20240308T193602Z
LAST-MODIFIED:20240308T193602Z
UID:54241-1722211200-1722643199@www.starfiresports.com
SUMMARY:Summer Camp- Music & Art
DESCRIPTION:Summer Camp- Music & Art
URL:https://www.starfiresports.com/event/steam-camp-music-art/
LOCATION:Starfire Sports\, 14800 Starfire Way\, Tukwila\, WA\, 98188\, United States
CATEGORIES:Youth Events
ORGANIZER;CN="Starfire Sports":MAILTO:tournaments@starfiresports.com
END:VEVENT
BEGIN:VEVENT
DTSTART;VALUE=DATE:20240809
DTEND;VALUE=DATE:20240812
DTSTAMP:20260421T033651
CREATED:20240308T193720Z
LAST-MODIFIED:20240308T193720Z
UID:54243-1723161600-1723420799@www.starfiresports.com
SUMMARY:Xtreme Cup
DESCRIPTION:Xtreme Cup
URL:https://www.starfiresports.com/event/xtreme-cup-2/
LOCATION:Starfire Sports\, 14800 Starfire Way\, Tukwila\, WA\, 98188\, United States
CATEGORIES:Youth Events
ORGANIZER;CN="Starfire Sports":MAILTO:tournaments@starfiresports.com
END:VEVENT
BEGIN:VEVENT
DTSTART;VALUE=DATE:20240830
DTEND;VALUE=DATE:20240903
DTSTAMP:20260421T033651
CREATED:20240308T194045Z
LAST-MODIFIED:20240308T194045Z
UID:54245-1724976000-1725321599@www.starfiresports.com
SUMMARY:Labor Day Cup
DESCRIPTION:Labor Day Cup
URL:https://www.starfiresports.com/event/labor-day-cup-2/
LOCATION:Starfire Sports\, 14800 Starfire Way\, Tukwila\, WA\, 98188\, United States
CATEGORIES:Youth Events
ORGANIZER;CN="Starfire Sports":MAILTO:tournaments@starfiresports.com
END:VEVENT
BEGIN:VEVENT
DTSTART;VALUE=DATE:20241129
DTEND;VALUE=DATE:20241202
DTSTAMP:20260421T033651
CREATED:20240308T194247Z
LAST-MODIFIED:20240308T194247Z
UID:54247-1732838400-1733097599@www.starfiresports.com
SUMMARY:Collegiate Showcase
DESCRIPTION:Collegiate Showcase
URL:https://www.starfiresports.com/event/collegiate-showcase-2/
LOCATION:Starfire Sports\, 14800 Starfire Way\, Tukwila\, WA\, 98188\, United States
CATEGORIES:Youth Events
END:VEVENT
BEGIN:VEVENT
DTSTART;TZID=America/Los_Angeles:20250614T160000
DTEND;TZID=America/Los_Angeles:20250616T180000
DTSTAMP:20260421T033651
CREATED:20250409T000017Z
LAST-MODIFIED:20250409T000017Z
UID:55440-1749916800-1750096800@www.starfiresports.com
SUMMARY:Starfire Spring Classic
DESCRIPTION:Tournament Details\nJune 13-15\, 2025\nBoys & Girls U9-U19\nPremier & Select Teams\nEntry Fee U9/10 (7v7) $695\nEntry Fee U11/U12 (9v9) $795\nEntry Fee U13 & Older (11v11) $895 \n\nU9 & U10 is 7v7\, 25-minute halves\nU11 & U12 is 9v9\, 25-minute halves\nU13 & Older is 11v11\, 30-minute halves\n3 game minimum\n1st & 2nd place awards\nGame balls provided\nWashington State referees\nOut of state teams\nA small selection of games may be played at Valley Ridge (directions) \nPaid parking in effect at Starfire\nRegistration deadline May 28 or when full
URL:https://www.starfiresports.com/event/starfire-spring-classic/
LOCATION:Starfire Sports\, 14800 Starfire Way\, Tukwila\, WA\, 98188\, United States
CATEGORIES:Youth Events
END:VEVENT
BEGIN:VEVENT
DTSTART;VALUE=DATE:20260206
DTEND;VALUE=DATE:20260209
DTSTAMP:20260421T033651
CREATED:20260107T210500Z
LAST-MODIFIED:20260107T210500Z
UID:56581-1770336000-1770595199@www.starfiresports.com
SUMMARY:Washington Youth Soccer Founders Cup
DESCRIPTION:The Founders Cup is a state-wide competition for Boys and Girls teams ages U9-U19 that compete in regional select leagues such as the North Puget Sound League (or similar). Semifinals and Finals take place at Starfire from February 6-8\, 2026.
URL:https://www.starfiresports.com/event/washington-youth-soccer-founders-cup/
LOCATION:Starfire Sports\, 14800 Starfire Way\, Tukwila\, WA\, 98188\, United States
CATEGORIES:Youth Events,Youth Soccer Tournament,Youth Sports Event,Youth Tournament
ATTACH;FMTTYPE=image/jpeg:https://www.starfiresports.com/wp-content/uploads/2026/01/WYS-WA-Founders-Cup-Logo-Large-300x300-1.jpg
END:VEVENT
BEGIN:VEVENT
DTSTART;VALUE=DATE:20260508
DTEND;VALUE=DATE:20260511
DTSTAMP:20260421T033651
CREATED:20260311T225517Z
LAST-MODIFIED:20260311T225753Z
UID:57037-1778198400-1778457599@www.starfiresports.com
SUMMARY:Washington Youth Soccer Girls High School Presidents Cup
DESCRIPTION:The final weekend of the Washington Youth Soccer Girls High School Presidents Cup arrives at Starfire Sports\, featuring the Semi-Finals and Finals for the Girls High School divisions. \nAs the pinnacle of this competitive cup series\, these matches determine who will be crowned state champions. For Division 1 winners\, this is the final step before heading to the USYS Far West Regional Presidents Cup in Boise\, Idaho. Join us for a weekend of elite competition and support Washington’s top high school athletes! \nTournament Resources: \n\n\nView the Starfire Campus Map for field locations. \n\n\nCheck schedules and official rules on the Washington Youth Soccer website.
URL:https://www.starfiresports.com/event/washington-youth-soccer-presidents-cup-girls-hs/
LOCATION:Starfire Sports\, 14800 Starfire Way\, Tukwila\, WA\, 98188\, United States
CATEGORIES:Youth Events,Youth Soccer Tournament,Youth Tournament
ATTACH;FMTTYPE=image/png:https://www.starfiresports.com/wp-content/uploads/2026/03/USYS_PresCup_Primary_RGB_LBG-300x300-1.png
END:VEVENT
BEGIN:VEVENT
DTSTART;TZID=America/Los_Angeles:20260612T153000
DTEND;TZID=America/Los_Angeles:20260614T180000
DTSTAMP:20260421T033651
CREATED:20260403T023710Z
LAST-MODIFIED:20260403T232326Z
UID:57160-1781278200-1781460000@www.starfiresports.com
SUMMARY:Starfire Spring Classic 2026
DESCRIPTION:Kick off the summer tournament season at the Pacific Northwest’s ultimate soccer destination at the Starfire Spring Classic. View the full details at the Spring Classic webpage or register today! \nWhy Play the Starfire Spring Classic?\nAs the premier youth soccer tournament in the Pacific Northwest\, the Starfire Spring Classic offers an unparalleled competitive experience. Teams from across the region gather at our world-class 54-acre campus to compete on professional-grade turf and beautifully maintained grass fields. Beyond the pitch\, families can enjoy our on-site athletic center\, restaurant\, cafe\, and the vibrant atmosphere that only Starfire Sports can provide. Whether you are a Premier or Select team\, this is the perfect stage to showcase your skills and kick off your summer season. \nTournament Information\nTournament Dates: June 12-14\, 2026 \nRegistration Deadline: June 1\, 2026 (or until full) \nEntry Fees by Age Group: \n\nU9/U10 (7v7): $700\nU11/U12 (9v9): $800\nU13 & Older (11v11): $900\n\nKey Features: \n\n3-game minimum guarantee\nGames played on world-class turf or grass fields\nOfficial tournament apparel by Fine Designs
URL:https://www.starfiresports.com/event/starfire-spring-classic-2026/
LOCATION:Starfire Sports\, 14800 Starfire Way\, Tukwila\, WA\, 98188\, United States
CATEGORIES:Youth Events,Youth Soccer Tournament,Youth Tournament
ATTACH;FMTTYPE=image/png:https://www.starfiresports.com/wp-content/uploads/2026/01/Spring-Classic-Logo-2026.png
ORGANIZER;CN="Starfire Sports":MAILTO:tournaments@starfiresports.com
END:VEVENT
END:VCALENDAR