BEGIN:VCALENDAR
VERSION:2.0
PRODID:-//Starfire - ECPv6.15.17.1//NONSGML v1.0//EN
CALSCALE:GREGORIAN
METHOD:PUBLISH
X-ORIGINAL-URL:https://www.starfiresports.com
X-WR-CALDESC:Events for Starfire
REFRESH-INTERVAL;VALUE=DURATION:PT1H
X-Robots-Tag:noindex
X-PUBLISHED-TTL:PT1H
BEGIN:VTIMEZONE
TZID:America/Los_Angeles
BEGIN:DAYLIGHT
TZOFFSETFROM:-0800
TZOFFSETTO:-0700
TZNAME:PDT
DTSTART:20250309T100000
END:DAYLIGHT
BEGIN:STANDARD
TZOFFSETFROM:-0700
TZOFFSETTO:-0800
TZNAME:PST
DTSTART:20251102T090000
END:STANDARD
BEGIN:DAYLIGHT
TZOFFSETFROM:-0800
TZOFFSETTO:-0700
TZNAME:PDT
DTSTART:20260308T100000
END:DAYLIGHT
BEGIN:STANDARD
TZOFFSETFROM:-0700
TZOFFSETTO:-0800
TZNAME:PST
DTSTART:20261101T090000
END:STANDARD
BEGIN:DAYLIGHT
TZOFFSETFROM:-0800
TZOFFSETTO:-0700
TZNAME:PDT
DTSTART:20270314T100000
END:DAYLIGHT
BEGIN:STANDARD
TZOFFSETFROM:-0700
TZOFFSETTO:-0800
TZNAME:PST
DTSTART:20271107T090000
END:STANDARD
END:VTIMEZONE
BEGIN:VEVENT
DTSTART;TZID=America/Los_Angeles:20260329T200000
DTEND;TZID=America/Los_Angeles:20260329T220000
DTSTAMP:20260422T111914
CREATED:20260127T011213Z
LAST-MODIFIED:20260127T012122Z
UID:56698-1774814400-1774821600@www.starfiresports.com
SUMMARY:Tacoma Defiance vs LA Galaxy
DESCRIPTION:Tacoma Defiance vs LA Galaxy on Sunday\, 3/29/2026 at 8:00 PM
URL:https://www.starfiresports.com/event/tacoma-defiance-vs-la-galaxy/
LOCATION:Starfire Sports\, 14800 Starfire Way\, Tukwila\, WA\, 98188\, United States
CATEGORIES:Pro Soccer Game
ATTACH;FMTTYPE=image/jpeg:https://www.starfiresports.com/wp-content/uploads/2025/06/pro-teams-defiance-e1773348023736.jpg
END:VEVENT
END:VCALENDAR