BEGIN:VCALENDAR
VERSION:2.0
PRODID:-//Starfire - ECPv6.15.17.1//NONSGML v1.0//EN
CALSCALE:GREGORIAN
METHOD:PUBLISH
X-ORIGINAL-URL:https://www.starfiresports.com
X-WR-CALDESC:Events for Starfire
REFRESH-INTERVAL;VALUE=DURATION:PT1H
X-Robots-Tag:noindex
X-PUBLISHED-TTL:PT1H
BEGIN:VTIMEZONE
TZID:America/Los_Angeles
BEGIN:DAYLIGHT
TZOFFSETFROM:-0800
TZOFFSETTO:-0700
TZNAME:PDT
DTSTART:20240310T100000
END:DAYLIGHT
BEGIN:STANDARD
TZOFFSETFROM:-0700
TZOFFSETTO:-0800
TZNAME:PST
DTSTART:20241103T090000
END:STANDARD
BEGIN:DAYLIGHT
TZOFFSETFROM:-0800
TZOFFSETTO:-0700
TZNAME:PDT
DTSTART:20250309T100000
END:DAYLIGHT
BEGIN:STANDARD
TZOFFSETFROM:-0700
TZOFFSETTO:-0800
TZNAME:PST
DTSTART:20251102T090000
END:STANDARD
BEGIN:DAYLIGHT
TZOFFSETFROM:-0800
TZOFFSETTO:-0700
TZNAME:PDT
DTSTART:20260308T100000
END:DAYLIGHT
BEGIN:STANDARD
TZOFFSETFROM:-0700
TZOFFSETTO:-0800
TZNAME:PST
DTSTART:20261101T090000
END:STANDARD
END:VTIMEZONE
BEGIN:VEVENT
DTSTART;TZID=America/Los_Angeles:20251029T141500
DTEND;TZID=America/Los_Angeles:20251029T161500
DTSTAMP:20260424T082940
CREATED:20250915T234430Z
LAST-MODIFIED:20250915T234430Z
UID:56020-1761747300-1761754500@www.starfiresports.com
SUMMARY:Highline Women's Soccer vs Clark College
DESCRIPTION:NWAC regular season soccer match featuring Highline College. More information available at Highline or NWAC website.
URL:https://www.starfiresports.com/event/highline-womens-soccer-vs-clark-college/
LOCATION:Starfire Sports\, 14800 Starfire Way\, Tukwila\, WA\, 98188\, United States
CATEGORIES:College Soccer Game
END:VEVENT
BEGIN:VEVENT
DTSTART;TZID=America/Los_Angeles:20251029T120000
DTEND;TZID=America/Los_Angeles:20251029T140000
DTSTAMP:20260424T082940
CREATED:20250915T234425Z
LAST-MODIFIED:20250915T234425Z
UID:56013-1761739200-1761746400@www.starfiresports.com
SUMMARY:Highline Men's Soccer vs Clark College
DESCRIPTION:Kennedy Catholic High School regular season match. Tickets are available online through the event website link. Visit https://www.kennedycatholicathletics.org/ for more information.
URL:https://www.starfiresports.com/event/highline-mens-soccer-vs-clark-college/
LOCATION:Starfire Sports\, 14800 Starfire Way\, Tukwila\, WA\, 98188\, United States
CATEGORIES:College Soccer Game
END:VEVENT
BEGIN:VEVENT
DTSTART;TZID=America/Los_Angeles:20251024T154500
DTEND;TZID=America/Los_Angeles:20251024T154500
DTSTAMP:20260424T082940
CREATED:20250915T234430Z
LAST-MODIFIED:20250915T234430Z
UID:56019-1761320700-1761320700@www.starfiresports.com
SUMMARY:Highline Women's Soccer vs Green River College
DESCRIPTION:NWAC regular season soccer match featuring Highline College. More information available at Highline or NWAC website.
URL:https://www.starfiresports.com/event/highline-womens-soccer-vs-green-river-college/
LOCATION:Starfire Sports\, 14800 Starfire Way\, Tukwila\, WA\, 98188\, United States
CATEGORIES:College Soccer Game
END:VEVENT
BEGIN:VEVENT
DTSTART;TZID=America/Los_Angeles:20251015T141500
DTEND;TZID=America/Los_Angeles:20251015T161500
DTSTAMP:20260424T082940
CREATED:20250915T234429Z
LAST-MODIFIED:20250915T234429Z
UID:56018-1760537700-1760544900@www.starfiresports.com
SUMMARY:Highline Women's Soccer vs Centralia College
DESCRIPTION:NWAC regular season soccer match featuring Highline College. More information available at Highline or NWAC website.
URL:https://www.starfiresports.com/event/highline-womens-soccer-vs-centralia-college/
LOCATION:Starfire Sports\, 14800 Starfire Way\, Tukwila\, WA\, 98188\, United States
CATEGORIES:College Soccer Game
END:VEVENT
BEGIN:VEVENT
DTSTART;TZID=America/Los_Angeles:20251015T120000
DTEND;TZID=America/Los_Angeles:20251015T140000
DTSTAMP:20260424T082940
CREATED:20250915T234424Z
LAST-MODIFIED:20250915T234424Z
UID:56012-1760529600-1760536800@www.starfiresports.com
SUMMARY:Highline Men's Soccer vs Centralia College
DESCRIPTION:Kennedy Catholic High School regular season match. Tickets are available online through the event website link. Visit https://www.kennedycatholicathletics.org/ for more information.
URL:https://www.starfiresports.com/event/highline-mens-soccer-vs-centralia-college/
LOCATION:Starfire Sports\, 14800 Starfire Way\, Tukwila\, WA\, 98188\, United States
CATEGORIES:College Soccer Game
END:VEVENT
BEGIN:VEVENT
DTSTART;TZID=America/Los_Angeles:20251008T141500
DTEND;TZID=America/Los_Angeles:20251008T161500
DTSTAMP:20260424T082940
CREATED:20250915T234426Z
LAST-MODIFIED:20250915T234426Z
UID:56017-1759932900-1759940100@www.starfiresports.com
SUMMARY:Highline Women's Soccer vs Tacoma Community College
DESCRIPTION:NWAC regular season soccer match featuring Highline College. More information available at Highline or NWAC website.
URL:https://www.starfiresports.com/event/highline-womens-soccer-vs-tacoma-community-college/
LOCATION:Starfire Sports\, 14800 Starfire Way\, Tukwila\, WA\, 98188\, United States
CATEGORIES:College Soccer Game
END:VEVENT
BEGIN:VEVENT
DTSTART;TZID=America/Los_Angeles:20251008T120000
DTEND;TZID=America/Los_Angeles:20251008T140000
DTSTAMP:20260424T082940
CREATED:20250915T234423Z
LAST-MODIFIED:20250915T234423Z
UID:56011-1759924800-1759932000@www.starfiresports.com
SUMMARY:Highline Men's Soccer vs Tacoma Community College
DESCRIPTION:Kennedy Catholic High School regular season match. Tickets are available online through the event website link. Visit https://www.kennedycatholicathletics.org/ for more information.
URL:https://www.starfiresports.com/event/highline-mens-soccer-vs-tacoma-community-college/
LOCATION:Starfire Sports\, 14800 Starfire Way\, Tukwila\, WA\, 98188\, United States
CATEGORIES:College Soccer Game
END:VEVENT
BEGIN:VEVENT
DTSTART;TZID=America/Los_Angeles:20250927T140000
DTEND;TZID=America/Los_Angeles:20250927T160000
DTSTAMP:20260424T082940
CREATED:20250915T234426Z
LAST-MODIFIED:20250915T234426Z
UID:56016-1758981600-1758988800@www.starfiresports.com
SUMMARY:Highline Women's Soccer vs Lower Columbia College
DESCRIPTION:NWAC regular season soccer match featuring Highline College. More information available at Highline or NWAC website.
URL:https://www.starfiresports.com/event/highline-womens-soccer-vs-lower-columbia-college/
LOCATION:Starfire Sports\, 14800 Starfire Way\, Tukwila\, WA\, 98188\, United States
CATEGORIES:College Soccer Game
END:VEVENT
BEGIN:VEVENT
DTSTART;TZID=America/Los_Angeles:20250924T140000
DTEND;TZID=America/Los_Angeles:20250924T160000
DTSTAMP:20260424T082940
CREATED:20250915T234423Z
LAST-MODIFIED:20250915T234423Z
UID:56010-1758722400-1758729600@www.starfiresports.com
SUMMARY:Highline Men's Soccer vs Pierce College
DESCRIPTION:Kennedy Catholic High School regular season match. Tickets are available online through the event website link. Visit https://www.kennedycatholicathletics.org/ for more information.
URL:https://www.starfiresports.com/event/highline-mens-soccer-vs-pierce-college/
LOCATION:Starfire Sports\, 14800 Starfire Way\, Tukwila\, WA\, 98188\, United States
CATEGORIES:College Soccer Game
END:VEVENT
BEGIN:VEVENT
DTSTART;TZID=America/Los_Angeles:20250920T141500
DTEND;TZID=America/Los_Angeles:20250920T161500
DTSTAMP:20260424T082940
CREATED:20250915T234426Z
LAST-MODIFIED:20250915T234426Z
UID:56015-1758377700-1758384900@www.starfiresports.com
SUMMARY:Highline Women's Soccer vs S. Puget Sound CC
DESCRIPTION:NWAC regular season soccer match featuring Highline College. More information available at Highline or NWAC website.
URL:https://www.starfiresports.com/event/highline-womens-soccer-vs-s-puget-sound-cc/
LOCATION:Starfire Sports\, 14800 Starfire Way\, Tukwila\, WA\, 98188\, United States
CATEGORIES:College Soccer Game
END:VEVENT
BEGIN:VEVENT
DTSTART;TZID=America/Los_Angeles:20250920T120000
DTEND;TZID=America/Los_Angeles:20250920T140000
DTSTAMP:20260424T082940
CREATED:20250915T234423Z
LAST-MODIFIED:20250915T234423Z
UID:56009-1758369600-1758376800@www.starfiresports.com
SUMMARY:Highline Men's Soccer vs S. Puget Sound CC
DESCRIPTION:Kennedy Catholic High School regular season match. Tickets are available online through the event website link. Visit https://www.kennedycatholicathletics.org/ for more information.
URL:https://www.starfiresports.com/event/highline-mens-soccer-vs-s-puget-sound-cc/
LOCATION:Starfire Sports\, 14800 Starfire Way\, Tukwila\, WA\, 98188\, United States
CATEGORIES:College Soccer Game
END:VEVENT
BEGIN:VEVENT
DTSTART;TZID=America/Los_Angeles:20250915T141500
DTEND;TZID=America/Los_Angeles:20250915T161500
DTSTAMP:20260424T082940
CREATED:20250915T234425Z
LAST-MODIFIED:20250915T234425Z
UID:56014-1757945700-1757952900@www.starfiresports.com
SUMMARY:Highline Women's Soccer vs Pierce College
DESCRIPTION:NWAC regular season soccer match featuring Highline College. More information available at Highline or NWAC website.
URL:https://www.starfiresports.com/event/highline-womens-soccer-vs-pierce-college/
LOCATION:Starfire Sports\, 14800 Starfire Way\, Tukwila\, WA\, 98188\, United States
CATEGORIES:College Soccer Game
END:VEVENT
END:VCALENDAR