BEGIN:VCALENDAR
VERSION:2.0
PRODID:-//Starfire - ECPv6.15.17.1//NONSGML v1.0//EN
CALSCALE:GREGORIAN
METHOD:PUBLISH
X-ORIGINAL-URL:https://www.starfiresports.com
X-WR-CALDESC:Events for Starfire
REFRESH-INTERVAL;VALUE=DURATION:PT1H
X-Robots-Tag:noindex
X-PUBLISHED-TTL:PT1H
BEGIN:VTIMEZONE
TZID:America/Los_Angeles
BEGIN:DAYLIGHT
TZOFFSETFROM:-0800
TZOFFSETTO:-0700
TZNAME:PDT
DTSTART:20250309T100000
END:DAYLIGHT
BEGIN:STANDARD
TZOFFSETFROM:-0700
TZOFFSETTO:-0800
TZNAME:PST
DTSTART:20251102T090000
END:STANDARD
BEGIN:DAYLIGHT
TZOFFSETFROM:-0800
TZOFFSETTO:-0700
TZNAME:PDT
DTSTART:20260308T100000
END:DAYLIGHT
BEGIN:STANDARD
TZOFFSETFROM:-0700
TZOFFSETTO:-0800
TZNAME:PST
DTSTART:20261101T090000
END:STANDARD
BEGIN:DAYLIGHT
TZOFFSETFROM:-0800
TZOFFSETTO:-0700
TZNAME:PDT
DTSTART:20270314T100000
END:DAYLIGHT
BEGIN:STANDARD
TZOFFSETFROM:-0700
TZOFFSETTO:-0800
TZNAME:PST
DTSTART:20271107T090000
END:STANDARD
END:VTIMEZONE
BEGIN:VEVENT
DTSTART;VALUE=DATE:20260501
DTEND;VALUE=DATE:20260504
DTSTAMP:20260422T090718
CREATED:20260311T182717Z
LAST-MODIFIED:20260311T182807Z
UID:57034-1777593600-1777852799@www.starfiresports.com
SUMMARY:Washington Youth Soccer Presidents Cup (U12-U14)
DESCRIPTION:The Washington Youth Soccer Presidents Cup continues at Starfire Sports! This weekend features the Semi-Finals and Finals for the U12-U14 age groups. \nAs part of the state’s largest competitive cup series\, the Presidents Cup provides a high-level competitive experience for teams across Washington. For the U13 and U14 Division 1 Champions\, this tournament is the gateway to the USYS Far West Regional Presidents Cup. \nReminder: Please consult the Starfire Campus Map for field assignments and parking information.
URL:https://www.starfiresports.com/event/washington-youth-soccer-presidents-cup-u12-u14-2/
LOCATION:Starfire Sports\, 14800 Starfire Way\, Tukwila\, WA\, 98188\, United States
CATEGORIES:Youth Soccer Tournament,Youth Tournament
ATTACH;FMTTYPE=image/png:https://www.starfiresports.com/wp-content/uploads/2026/03/USYS_PresCup_Primary_RGB_LBG-300x300-1.png
END:VEVENT
END:VCALENDAR