BEGIN:VCALENDAR
VERSION:2.0
PRODID:-//Starfire - ECPv6.15.17.1//NONSGML v1.0//EN
CALSCALE:GREGORIAN
METHOD:PUBLISH
X-ORIGINAL-URL:https://www.starfiresports.com
X-WR-CALDESC:Events for Starfire
REFRESH-INTERVAL;VALUE=DURATION:PT1H
X-Robots-Tag:noindex
X-PUBLISHED-TTL:PT1H
BEGIN:VTIMEZONE
TZID:America/Los_Angeles
BEGIN:DAYLIGHT
TZOFFSETFROM:-0800
TZOFFSETTO:-0700
TZNAME:PDT
DTSTART:20250309T100000
END:DAYLIGHT
BEGIN:STANDARD
TZOFFSETFROM:-0700
TZOFFSETTO:-0800
TZNAME:PST
DTSTART:20251102T090000
END:STANDARD
BEGIN:DAYLIGHT
TZOFFSETFROM:-0800
TZOFFSETTO:-0700
TZNAME:PDT
DTSTART:20260308T100000
END:DAYLIGHT
BEGIN:STANDARD
TZOFFSETFROM:-0700
TZOFFSETTO:-0800
TZNAME:PST
DTSTART:20261101T090000
END:STANDARD
BEGIN:DAYLIGHT
TZOFFSETFROM:-0800
TZOFFSETTO:-0700
TZNAME:PDT
DTSTART:20270314T100000
END:DAYLIGHT
BEGIN:STANDARD
TZOFFSETFROM:-0700
TZOFFSETTO:-0800
TZNAME:PST
DTSTART:20271107T090000
END:STANDARD
END:VTIMEZONE
BEGIN:VEVENT
DTSTART;VALUE=DATE:20260221
DTEND;VALUE=DATE:20260224
DTSTAMP:20260422T045818
CREATED:20260211T012741Z
LAST-MODIFIED:20260211T012810Z
UID:56798-1771632000-1771891199@www.starfiresports.com
SUMMARY:Washington Youth Soccer - Boys High School State Championships
DESCRIPTION:The Washington State Championship Cup represents the pinnacle of competitive youth soccer in Washington. Open to teams in the Under-13 through Under-19 age groups\, this prestigious tournament showcases the highest level of play across the state.\n\nEach year\, top teams from all corners of Washington come together to compete for the state title and a coveted spot in the US Youth Soccer National Championship Series. This national pathway honors elite players and ensures that the best teams from each state have a direct route to the National Championships—where excellence is celebrated on a national stage.\n\nJoin thousands of passionate fans and spectators in witnessing the future of soccer as Washington’s finest battle for glory.
URL:https://www.starfiresports.com/event/washington-youth-soccer-boys-high-school-state-championships/
LOCATION:Starfire Sports\, 14800 Starfire Way\, Tukwila\, WA\, 98188\, United States
CATEGORIES:Youth Soccer Tournament,Youth Tournament
ATTACH;FMTTYPE=image/png:https://www.starfiresports.com/wp-content/uploads/2025/08/washington-youth-soccer-200x84-1.png
END:VEVENT
END:VCALENDAR